BEGIN:VCALENDAR
VERSION:2.0
PRODID:-//paul&#039;s selection | Fashion Agency Duesseldorf - ECPv6.13.2.1//NONSGML v1.0//EN
CALSCALE:GREGORIAN
METHOD:PUBLISH
X-WR-CALNAME:paul&#039;s selection | Fashion Agency Duesseldorf
X-ORIGINAL-URL:https://www.paulsselection.com
X-WR-CALDESC:Veranstaltungen für paul&#039;s selection | Fashion Agency Duesseldorf
REFRESH-INTERVAL;VALUE=DURATION:PT1H
X-Robots-Tag:noindex
X-PUBLISHED-TTL:PT1H
BEGIN:VTIMEZONE
TZID:Europe/Berlin
BEGIN:DAYLIGHT
TZOFFSETFROM:+0100
TZOFFSETTO:+0200
TZNAME:CEST
DTSTART:20260329T010000
END:DAYLIGHT
BEGIN:STANDARD
TZOFFSETFROM:+0200
TZOFFSETTO:+0100
TZNAME:CET
DTSTART:20261025T010000
END:STANDARD
END:VTIMEZONE
BEGIN:VEVENT
DTSTART;VALUE=DATE:20260119
DTEND;VALUE=DATE:20260316
DTSTAMP:20260422T042330
CREATED:20230628T074611Z
LAST-MODIFIED:20251210T114023Z
UID:2042-1768780800-1773619199@www.paulsselection.com
SUMMARY:Order Season AW 2026 Düsseldorf
DESCRIPTION:Welcome to paul’s selection\, your premier destination for exclusive Italian fashion in Düsseldorf. We are thrilled to invite you to the Order Phase AW 2026\, where we will unveil the latest Italian collections for the upcoming Autumn/Winter season. \nAs a renowned fashion agency with a carefully curated range of Italian fashion\, we provide you with access to exquisite designs that perfectly capture the vivacity and elegance of Italian style. The Order Phase AW 2026 offers you an exclusive preview of the upcoming season\, presenting the best of contemporary design blended with Italian flair. \nExperience our commitment to quality\, creativity\, and style firsthand in our showroom at Cecilienallee 40 in Düsseldorf. Our experts look forward to guiding you through the collections and assisting you in selecting the best pieces for your needs. \nWhether you are a retailer seeking new collections for your store\, a fashion professional tracking current trends\, or simply a lover of Italian fashion\, we cordially invite you to participate in this event. \nThe Order Phase AW 2026 is a unique opportunity to be inspired by Italian fashion and make your selection for the upcoming season. Schedule your personal appointment today through our website or contact us by phone. Our dedicated team at paul’s selection is looking forward to assisting you in this fashion highlight. \nSchedule your appointment or call now – discover the world of Italian fashion with paul’s selection. \nLet’s get in touch.Would you like to know more about the fashion agency or ask us a question? We are looking forward to hearing from you and will be pleased to help. \n\n\n  \n\n\n\n\n\n\n\n\n\n\n	\n		\n		 \n	\n	\n		\n		 \n	\n\n\n	\n		\n		 \n	\n	\n		\n		 \n	\n\n\n \n\n \nI have taken note of the Privacy Policy. I agree that my details and data will be collected and stored to answer my enquiry by telephone or e-mail. A passing on of my data to other third parties does not take place. You can revoke your consent at any time for the future by sending an e-mail to office@paulsselection.com.\n \n\n Δ ×\n\n\nDuesseldorf \npaul’s selectionCecilienallee 40\n40474 Duesseldorf\n0049 176 242 061 96\noffice@paulsselection.com\nMon – Sun: 09am – 18pm \nAus datenschutzrechtlichen Gründen benötigt Google Maps Ihre Einwilligung um geladen zu werden. Mehr Informationen finden Sie unter Privacy Policy.Akzeptieren
URL:https://www.paulsselection.com/event/order-season-aw-2026-duesseldorf/
LOCATION:Showroom Düsseldorf\, Cecilienallee 40\, Duesseldorf\, NRW\, 40219\, Deutschland
ATTACH;FMTTYPE=image/jpeg:https://www.paulsselection.com/wp-content/uploads/2023/06/Duesseldorf-Event-Order-Season-SS2024.jpg
ORGANIZER;CN="paul's selection":MAILTO:g.schulz@paulsselection.com, p.schulz@paulsselection.com
END:VEVENT
END:VCALENDAR